BEGIN:VCALENDAR
VERSION:2.0
PRODID:-//Explore White Rock - ECPv5.14.2.1//NONSGML v1.0//EN
CALSCALE:GREGORIAN
METHOD:PUBLISH
X-WR-CALNAME:Explore White Rock
X-ORIGINAL-URL:https://explorewhiterock.com
X-WR-CALDESC:Events for Explore White Rock
BEGIN:VTIMEZONE
TZID:America/Vancouver
BEGIN:DAYLIGHT
TZOFFSETFROM:-0800
TZOFFSETTO:-0700
TZNAME:PDT
DTSTART:20170312T100000
END:DAYLIGHT
BEGIN:STANDARD
TZOFFSETFROM:-0700
TZOFFSETTO:-0800
TZNAME:PST
DTSTART:20171105T090000
END:STANDARD
END:VTIMEZONE
BEGIN:VEVENT
DTSTART;TZID=America/Vancouver:20170916T190000
DTEND;TZID=America/Vancouver:20170916T230000
DTSTAMP:20260420T162503
CREATED:20170701T213557Z
LAST-MODIFIED:20170701T213649Z
UID:1130-1505588400-1505602800@explorewhiterock.com
SUMMARY:Kal David & Miss Lauri Bono - Blues Hall of Famers
DESCRIPTION:Kal David and Lauri Bono are Blues legends\, and just to emphasize that point\, Kal and Lauri were inducted into both the National Blues Hall of Fame and the Connecticut Blues Hall of Fame on May 1st of this year. Join them on September 15th and 16th at one of their favourite venues\, Blue Frog Studios\, to celebrate this momentous occasion!!! What a well-deserved tribute to these two great artists.
URL:https://explorewhiterock.com/event/1130/
LOCATION:Blue Frog Studio\, 1328 Johnston Road\, White Rock\, BC\, V4B 3Z2\, Canada
CATEGORIES:Music
END:VEVENT
END:VCALENDAR