BEGIN:VCALENDAR
VERSION:2.0
PRODID:-//Explore White Rock - ECPv5.14.2.1//NONSGML v1.0//EN
CALSCALE:GREGORIAN
METHOD:PUBLISH
X-WR-CALNAME:Explore White Rock
X-ORIGINAL-URL:https://explorewhiterock.com
X-WR-CALDESC:Events for Explore White Rock
BEGIN:VTIMEZONE
TZID:America/Vancouver
BEGIN:DAYLIGHT
TZOFFSETFROM:-0800
TZOFFSETTO:-0700
TZNAME:PDT
DTSTART:20230312T100000
END:DAYLIGHT
BEGIN:STANDARD
TZOFFSETFROM:-0700
TZOFFSETTO:-0800
TZNAME:PST
DTSTART:20231105T090000
END:STANDARD
END:VTIMEZONE
BEGIN:VEVENT
DTSTART;TZID=America/Vancouver:20230912T100000
DTEND;TZID=America/Vancouver:20230912T170000
DTSTAMP:20260422T183320
CREATED:20230914T223045Z
LAST-MODIFIED:20230914T223045Z
UID:10373-1694512800-1694538000@explorewhiterock.com
SUMMARY:Art Exhibit:  Mainly Coastal with Rick Bond
DESCRIPTION:Visit White Rock Gallery for a special exhibition of works by BC artist\, Rick Bond.  The series of paintings on display “came from spending time in our park in the Okanagan\, this spring in and around Madeira Park on the Sunshine Coast and this summer in Ucluelet.” \nRick enjoys using the vibrance of colour\, energy\, and a somewhat loose brushstroke style to express the aesthetic of the experience. \nOpening artist reception\, September 14 from 4 pm – 8 pm.
URL:https://explorewhiterock.com/event/art-exhibit-mainly-coastal-with-rick-bond/2023-09-12/
LOCATION:White Rock Gallery\, 1247 Johnston Road\, White Rock\, BC\, V4B 3Y9\, Canada
CATEGORIES:Art
END:VEVENT
END:VCALENDAR