BEGIN:VCALENDAR
VERSION:2.0
PRODID:-//Explore White Rock - ECPv5.14.2.1//NONSGML v1.0//EN
CALSCALE:GREGORIAN
METHOD:PUBLISH
X-WR-CALNAME:Explore White Rock
X-ORIGINAL-URL:https://explorewhiterock.com
X-WR-CALDESC:Events for Explore White Rock
BEGIN:VTIMEZONE
TZID:America/Vancouver
BEGIN:DAYLIGHT
TZOFFSETFROM:-0800
TZOFFSETTO:-0700
TZNAME:PDT
DTSTART:20180311T100000
END:DAYLIGHT
BEGIN:STANDARD
TZOFFSETFROM:-0700
TZOFFSETTO:-0800
TZNAME:PST
DTSTART:20181104T090000
END:STANDARD
END:VTIMEZONE
BEGIN:VEVENT
DTSTART;TZID=America/Vancouver:20180803T203000
DTEND;TZID=America/Vancouver:20180803T223000
DTSTAMP:20260424T062743
CREATED:20180801T003059Z
LAST-MODIFIED:20180801T003059Z
UID:3415-1533328200-1533335400@explorewhiterock.com
SUMMARY:Avengers Infinity War - Outdoor Movie
DESCRIPTION:Kick off Sea Fest 2018 in style and head down with the whole family to Semiahmoo Park to catch a free outdoor screening of the latest Avengers film! Bring your folding chairs\, blankets and snacks – the film will begin at 8:30PM!
URL:https://explorewhiterock.com/event/avengers-infinity-war-outdoor-movie/
LOCATION:Semiahmoo Park\, 15782 Marine Dr\, White Rock\, British Columbia\, V4A 6E7\, Canada
CATEGORIES:Family
END:VEVENT
END:VCALENDAR