BEGIN:VCALENDAR
VERSION:2.0
PRODID:-//Explore White Rock - ECPv5.14.2.1//NONSGML v1.0//EN
CALSCALE:GREGORIAN
METHOD:PUBLISH
X-WR-CALNAME:Explore White Rock
X-ORIGINAL-URL:https://explorewhiterock.com
X-WR-CALDESC:Events for Explore White Rock
BEGIN:VTIMEZONE
TZID:America/Vancouver
BEGIN:DAYLIGHT
TZOFFSETFROM:-0800
TZOFFSETTO:-0700
TZNAME:PDT
DTSTART:20170312T100000
END:DAYLIGHT
BEGIN:STANDARD
TZOFFSETFROM:-0700
TZOFFSETTO:-0800
TZNAME:PST
DTSTART:20171105T090000
END:STANDARD
END:VTIMEZONE
BEGIN:VEVENT
DTSTART;TZID=America/Vancouver:20170708T210000
DTEND;TZID=America/Vancouver:20170708T233000
DTSTAMP:20260421T005859
CREATED:20170706T214231Z
LAST-MODIFIED:20170706T214231Z
UID:1339-1499547600-1499556600@explorewhiterock.com
SUMMARY:B.E.A.C.H Grand Opening
DESCRIPTION:The B.E.A.C.H Grand Opening Party. Live music\, smoke house menu and crafted beach style cocktails.
URL:https://explorewhiterock.com/event/b-e-a-c-h-grand-opening/
LOCATION:The BEACH Kitchen and Cocktails\, 14981 Marine Drive\, White Rock\, British Columbia\, V4V 1C3\, Canada
CATEGORIES:Food & Drink
END:VEVENT
END:VCALENDAR