BEGIN:VCALENDAR
VERSION:2.0
PRODID:-//Explore White Rock - ECPv5.14.2.1//NONSGML v1.0//EN
CALSCALE:GREGORIAN
METHOD:PUBLISH
X-WR-CALNAME:Explore White Rock
X-ORIGINAL-URL:https://explorewhiterock.com
X-WR-CALDESC:Events for Explore White Rock
BEGIN:VTIMEZONE
TZID:America/Vancouver
BEGIN:DAYLIGHT
TZOFFSETFROM:-0800
TZOFFSETTO:-0700
TZNAME:PDT
DTSTART:20230312T100000
END:DAYLIGHT
BEGIN:STANDARD
TZOFFSETFROM:-0700
TZOFFSETTO:-0800
TZNAME:PST
DTSTART:20231105T090000
END:STANDARD
END:VTIMEZONE
BEGIN:VEVENT
DTSTART;TZID=America/Vancouver:20230824T190000
DTEND;TZID=America/Vancouver:20230824T220000
DTSTAMP:20260423T024843
CREATED:20230524T180202Z
LAST-MODIFIED:20230524T180203Z
UID:10050-1692903600-1692914400@explorewhiterock.com
SUMMARY:Concerts at the Pier - Colin James
DESCRIPTION:Organized in partnership by the White Rock Business Improvement Association and the City of White Rock\, this live music event is one of the highlights of the summer in White Rock and is one that you do not want to miss!  The concerts\, as always are FREE (no tickets required). Bring your chairs and be sure to arrive early to catch the opening acts and snag a great spot! \nAugust 24 – Colin James | Opening Act – James Brandon Isaak- at Grand Chief Bernard Robert Charles Memorial Plaza (East Beach). Colin James has set the bar for consistency and talent in Canadian music and even after 20 acclaimed albums remains at the top of his game\, always challenging himself musically. A consummate professional and a superb guitarist\, Colin is a musician’s\, musician.
URL:https://explorewhiterock.com/event/concerts-at-the-pier-colin-james/
LOCATION:Grand Chief Bernard Robert Charles Memorial Plaza
CATEGORIES:Music
END:VEVENT
END:VCALENDAR