BEGIN:VCALENDAR
VERSION:2.0
PRODID:-//Explore White Rock - ECPv5.14.2.1//NONSGML v1.0//EN
CALSCALE:GREGORIAN
METHOD:PUBLISH
X-WR-CALNAME:Explore White Rock
X-ORIGINAL-URL:https://explorewhiterock.com
X-WR-CALDESC:Events for Explore White Rock
BEGIN:VTIMEZONE
TZID:America/Vancouver
BEGIN:DAYLIGHT
TZOFFSETFROM:-0800
TZOFFSETTO:-0700
TZNAME:PDT
DTSTART:20170312T100000
END:DAYLIGHT
BEGIN:STANDARD
TZOFFSETFROM:-0700
TZOFFSETTO:-0800
TZNAME:PST
DTSTART:20171105T090000
END:STANDARD
END:VTIMEZONE
BEGIN:VEVENT
DTSTART;TZID=America/Vancouver:20170729T190000
DTEND;TZID=America/Vancouver:20170729T230000
DTSTAMP:20260420T194733
CREATED:20170701T212505Z
LAST-MODIFIED:20170701T212656Z
UID:1125-1501354800-1501369200@explorewhiterock.com
SUMMARY:Crystal Shawanda Fish Out of Water Tour
DESCRIPTION:Fish Out of Water Tour \nSaturday\, July 29 at Blue Frog Studios in White Rock \nTickets are $35.00 (plus Service Charges); \nAvailable from Blue Frog Studios. \nCharge online at www.bluefrogstudios.ca/newshows.html. \nCCMA Female Artist of the Year. \nCRMA Best New Country Artist \nJuno Award Winner \n3 APC Awards \n5 CAM Awards
URL:https://explorewhiterock.com/event/crystal-shawanda-fish-out-of-water-tour/
LOCATION:Blue Frog Studio\, 1328 Johnston Road\, White Rock\, BC\, V4B 3Z2\, Canada
CATEGORIES:Music
END:VEVENT
END:VCALENDAR