BEGIN:VCALENDAR
VERSION:2.0
PRODID:-//Explore White Rock - ECPv5.14.2.1//NONSGML v1.0//EN
CALSCALE:GREGORIAN
METHOD:PUBLISH
X-WR-CALNAME:Explore White Rock
X-ORIGINAL-URL:https://explorewhiterock.com
X-WR-CALDESC:Events for Explore White Rock
BEGIN:VTIMEZONE
TZID:America/Vancouver
BEGIN:DAYLIGHT
TZOFFSETFROM:-0800
TZOFFSETTO:-0700
TZNAME:PDT
DTSTART:20210314T100000
END:DAYLIGHT
BEGIN:STANDARD
TZOFFSETFROM:-0700
TZOFFSETTO:-0800
TZNAME:PST
DTSTART:20211107T090000
END:STANDARD
END:VTIMEZONE
BEGIN:VEVENT
DTSTART;TZID=America/Vancouver:20211126T110000
DTEND;TZID=America/Vancouver:20211126T170000
DTSTAMP:20260421T152115
CREATED:20211123T005051Z
LAST-MODIFIED:20211123T005051Z
UID:8099-1637924400-1637946000@explorewhiterock.com
SUMMARY:Different Voices presented by Art Couture Gallery
DESCRIPTION:The expressions in Fine Art are as individualistic as the artist.  “Different Voices” celebrates the diversity that each artist brings to White Rock’s Art Couture Gallery. This current exhibition showcases the works of three of White Rock’s long-time artists – Chris MacClure\, Marilyn Hurst and Dave Patterson.\n\n\nExhibition and Sale: November 26 to December 31\, 2021.\n\nMeet the artists on November 27 and 28 from 11 am – 4 pm.
URL:https://explorewhiterock.com/event/different-voices-presented-by-art-couture-gallery/2021-11-26/
LOCATION:Art Couture Gallery\, 14819 Marine Drive\, White Rock\, BC\, V4B 1C1\, Canada
CATEGORIES:Art
END:VEVENT
END:VCALENDAR