BEGIN:VCALENDAR
VERSION:2.0
PRODID:-//Explore White Rock - ECPv5.14.2.1//NONSGML v1.0//EN
CALSCALE:GREGORIAN
METHOD:PUBLISH
X-WR-CALNAME:Explore White Rock
X-ORIGINAL-URL:https://explorewhiterock.com
X-WR-CALDESC:Events for Explore White Rock
BEGIN:VTIMEZONE
TZID:America/Vancouver
BEGIN:DAYLIGHT
TZOFFSETFROM:-0800
TZOFFSETTO:-0700
TZNAME:PDT
DTSTART:20200308T100000
END:DAYLIGHT
BEGIN:STANDARD
TZOFFSETFROM:-0700
TZOFFSETTO:-0800
TZNAME:PST
DTSTART:20201101T090000
END:STANDARD
END:VTIMEZONE
BEGIN:VEVENT
DTSTART;TZID=America/Vancouver:20200123T180000
DTEND;TZID=America/Vancouver:20200123T220000
DTSTAMP:20260423T013803
CREATED:20200118T014834Z
LAST-MODIFIED:20200118T014834Z
UID:5827-1579802400-1579816800@explorewhiterock.com
SUMMARY:Dreams - The Ultimate Tribute to Fleetwood Mac - Live at Blue Frog
DESCRIPTION:DREAMS – the Ultimate tribute to Fleetwood Mac\, is an authentic sounding\, seven piece tribute to Fleetwood Mac. They perform in full costumes\, similar to the actual styles worn by the original Fleetwood Mac. You will be taken back with all their favourite songs including Don’t Stop\, Go Your Own Way\, Landslide\, Say You Love Me\, The Chain and of course Dreams. \nThursday January 23\, 2020 \nDoors 6:00 pm | Show 7:00 pm – SOLD OUT \nFriday January 24\, 2020 \nDoors 6:00 pm | Show 7:00 pm- SOLD OUT \nDoors 8:45 pm | Show 9:15 pm- SOLD OUT \nSaturday January 25\, 2020 \nDoors 6:00 pm | Show 7:00 pm – SOLD OUT \nDoors 8:45 pm | Show 9:15 pm- SOLD OUT
URL:https://explorewhiterock.com/event/dreams-the-ultimate-tribute-to-fleetwood-mac-live-at-blue-frog/2020-01-23/
CATEGORIES:Music
END:VEVENT
END:VCALENDAR