BEGIN:VCALENDAR
VERSION:2.0
PRODID:-//Explore White Rock - ECPv5.14.2.1//NONSGML v1.0//EN
CALSCALE:GREGORIAN
METHOD:PUBLISH
X-WR-CALNAME:Explore White Rock
X-ORIGINAL-URL:https://explorewhiterock.com
X-WR-CALDESC:Events for Explore White Rock
BEGIN:VTIMEZONE
TZID:America/Vancouver
BEGIN:DAYLIGHT
TZOFFSETFROM:-0800
TZOFFSETTO:-0700
TZNAME:PDT
DTSTART:20180311T100000
END:DAYLIGHT
BEGIN:STANDARD
TZOFFSETFROM:-0700
TZOFFSETTO:-0800
TZNAME:PST
DTSTART:20181104T090000
END:STANDARD
END:VTIMEZONE
BEGIN:VEVENT
DTSTART;TZID=America/Vancouver:20180322T190000
DTEND;TZID=America/Vancouver:20180322T230000
DTSTAMP:20260424T113210
CREATED:20180309T212334Z
LAST-MODIFIED:20180309T213318Z
UID:2687-1521745200-1521759600@explorewhiterock.com
SUMMARY:Eagle Eyes
DESCRIPTION:‘EAGLE EYES’ were the highlight concert of last summers TD Concerts at the Pier in White Rock\, performing to a crowd of over 2000 excited fans at the beach. Blue Frog was successful in arranging a special exclusive return engagement of this tribute to one of the most legendary rock & roll bands of all time\, ‘THE EAGLES’. \nThe Eagles are one of the world’s best-selling bands\, having sold more than 150 million records\, including 42 million copies of Their Greatest Hits (1971-1975) and 32 million copies of Hotel California.\n​\nPerforming hits like “Hotel California”\, “Peaceful Easy Feeling”\, “Tequila Sunrise”\, “Heartache Tonight”\, “Lyin’ Eyes”\, “One of these Nights”\, and many more\, they are the fifth-highest selling music act and the highest-selling American band in U.S. history.\nEagle Eyes audiences are captivated by the stunning replication of the trademark vocal harmonies that the Eagles have been noted for. Eagle Eyes are a ‘must see’ for all Eagles fans whether they are fans of classic rock\, country rock with a twinge of bluegrass. The four members of Eagle Eyes have over 120 years of combined experience as professional touring musicians: \nJack Gunderson/ Bass & Vocals – fills the vocal role of Glen Frey and is one half of the tight and unified rhythm section as bassist.\nJason Dunajski / Guitars & Vocals – performs the vocals of Don Henley and Randy Meisner and one half of the guitar tandem.\nGreg Murray/ Drums & Vocals – the engine of Eagle Eyes keeping the tempo of the songs flowing while adding the harmony vocals the staple of the distinctive Eagles sound.\nRay Harvey/ Guitars & Vocals – is the exacting version of infamous Joe Walsh with his dynamic lead solos and soulful slide guitar parts. \nDon’t miss this extraordinary opportunity to experience the best of the Eagles in the intimate concert setting of Blue Frog Studios!
URL:https://explorewhiterock.com/event/eagle-eyes/
LOCATION:Blue Frog Studio\, 1328 Johnston Road\, White Rock\, BC\, V4B 3Z2\, Canada
CATEGORIES:Music
END:VEVENT
END:VCALENDAR