BEGIN:VCALENDAR
VERSION:2.0
PRODID:-//Explore White Rock - ECPv5.14.2.1//NONSGML v1.0//EN
CALSCALE:GREGORIAN
METHOD:PUBLISH
X-WR-CALNAME:Explore White Rock
X-ORIGINAL-URL:https://explorewhiterock.com
X-WR-CALDESC:Events for Explore White Rock
BEGIN:VTIMEZONE
TZID:America/Vancouver
BEGIN:DAYLIGHT
TZOFFSETFROM:-0800
TZOFFSETTO:-0700
TZNAME:PDT
DTSTART:20170312T100000
END:DAYLIGHT
BEGIN:STANDARD
TZOFFSETFROM:-0700
TZOFFSETTO:-0800
TZNAME:PST
DTSTART:20171105T090000
END:STANDARD
END:VTIMEZONE
BEGIN:VEVENT
DTSTART;TZID=America/Vancouver:20171126T150000
DTEND;TZID=America/Vancouver:20171126T200000
DTSTAMP:20260420T112501
CREATED:20170819T163218Z
LAST-MODIFIED:20170819T163218Z
UID:1967-1511708400-1511726400@explorewhiterock.com
SUMMARY:Encore Peninsula Concerts - Concertos Extravaganza
DESCRIPTION:Encore Peninsula Concerts \nThe City of White Rock and Music Encore Concert Society have joined forces to create Sunday afternoons of spectacular classical music. \nTo purchase tickets over the phone call (604) 501-5566 and press 1. \nTo purchase tickets in person visit the White Rock Community Centre\, Kent Street Activity Centre or Centennial Park Leisure Centre. \nBuy Tickets Online \nConcertos Extravaganza \nA Gala Concert of several outstanding young talents from the Vancouver International School of Music White Rock\, performing masterpieces of Concerto repertoire from Classical and Romantic composers. Music by Haydn\, Mozart\, Beethoven\, Mendelssohn\, Chopin. \nAll concerts are at the White Rock First United Church\, 15385 Semiahmoo Ave\, \nWhite Rock B.C. \nFall Subscription 2017 (all four concerts): \n$90 for Adults or $80 for Seniors and Students \nIndividual Tickets: \n$25 for Adults or $22 for Seniors and Students
URL:https://explorewhiterock.com/event/encore-peninsula-concerts-concertos-extravaganza/
LOCATION:White Rock First United Church\, 15385 Semiahmoo Ave\, White Rock\, British Columbia\, V4B 1T6\, Canada
CATEGORIES:Music
END:VEVENT
END:VCALENDAR