BEGIN:VCALENDAR
VERSION:2.0
PRODID:-//Explore White Rock - ECPv5.14.2.1//NONSGML v1.0//EN
CALSCALE:GREGORIAN
METHOD:PUBLISH
X-WR-CALNAME:Explore White Rock
X-ORIGINAL-URL:https://explorewhiterock.com
X-WR-CALDESC:Events for Explore White Rock
BEGIN:VTIMEZONE
TZID:America/Vancouver
BEGIN:DAYLIGHT
TZOFFSETFROM:-0800
TZOFFSETTO:-0700
TZNAME:PDT
DTSTART:20170312T100000
END:DAYLIGHT
BEGIN:STANDARD
TZOFFSETFROM:-0700
TZOFFSETTO:-0800
TZNAME:PST
DTSTART:20171105T090000
END:STANDARD
END:VTIMEZONE
BEGIN:VEVENT
DTSTART;TZID=America/Vancouver:20170901T190000
DTEND;TZID=America/Vancouver:20170901T230000
DTSTAMP:20260420T194423
CREATED:20170701T215110Z
LAST-MODIFIED:20170701T215110Z
UID:1137-1504292400-1504306800@explorewhiterock.com
SUMMARY:Gabriel Palatchi Trio
DESCRIPTION:One of the highlight concerts of 2016\, Blue Frog Studios is excited to bring back the Gabriel Palatchi Trio for a return engagement and video filming for a live concert DVD. It is impossible to leave a Gabriel Palatchi performance unsatisfied. Energy and passion\, combined with skill\, and a true love for music\, has resulted in a dynamic musical juggernaut. His music is an original blend of different genres such as Latin Jazz\, Tango\, Funk\, Klezmer\, Gypsy\, Reggae\, Samba and Electronic\, a representation of the many cultures that have influenced his music. \nGabriel hails from Buenos Aires\, Argentina and has studied piano under many great teachers of Blues\, Tango\, Jazz and Latin Jazz\, including in Cuba where he met and studied with the world-renowned pianist “Chucho” Valdez. Gabriel continues to travel extensively\, performing and composing throughout the world.
URL:https://explorewhiterock.com/event/gabriel-palatchi-trio/
LOCATION:Blue Frog Studio\, 1328 Johnston Road\, White Rock\, BC\, V4B 3Z2\, Canada
CATEGORIES:Music
END:VEVENT
END:VCALENDAR