BEGIN:VCALENDAR
VERSION:2.0
PRODID:-//Explore White Rock - ECPv5.14.2.1//NONSGML v1.0//EN
CALSCALE:GREGORIAN
METHOD:PUBLISH
X-WR-CALNAME:Explore White Rock
X-ORIGINAL-URL:https://explorewhiterock.com
X-WR-CALDESC:Events for Explore White Rock
BEGIN:VTIMEZONE
TZID:America/Vancouver
BEGIN:DAYLIGHT
TZOFFSETFROM:-0800
TZOFFSETTO:-0700
TZNAME:PDT
DTSTART:20210314T100000
END:DAYLIGHT
BEGIN:STANDARD
TZOFFSETFROM:-0700
TZOFFSETTO:-0800
TZNAME:PST
DTSTART:20211107T090000
END:STANDARD
END:VTIMEZONE
BEGIN:VEVENT
DTSTART;TZID=America/Vancouver:20210320T130000
DTEND;TZID=America/Vancouver:20210320T140000
DTSTAMP:20260422T033847
CREATED:20210217T001624Z
LAST-MODIFIED:20210217T001624Z
UID:6995-1616245200-1616248800@explorewhiterock.com
SUMMARY:Hilarapy Virtual Stage Comedy Show
DESCRIPTION:Come join us for an afternoon of laughter as our Hilarapy members perform some of their outrageous stand-up sets using comedy to lighten hearts. Come and feel the power of comedy to create connection and tackle the hard to talk about subjects with levity and light. Watch our students use humour to help articulate those difficult experiences from the shadows. When we do anything together\, the outcomes are always so much better in a group. Laughing with other people is the best form of connection. So\, put a lift in your step this Spring and come along for the laughs! \nPurchase your ticket online.
URL:https://explorewhiterock.com/event/hilarapy-virtual-stage-comedy-show/
CATEGORIES:Entertainment
END:VEVENT
END:VCALENDAR