BEGIN:VCALENDAR
VERSION:2.0
PRODID:-//Explore White Rock - ECPv5.14.2.1//NONSGML v1.0//EN
CALSCALE:GREGORIAN
METHOD:PUBLISH
X-WR-CALNAME:Explore White Rock
X-ORIGINAL-URL:https://explorewhiterock.com
X-WR-CALDESC:Events for Explore White Rock
BEGIN:VTIMEZONE
TZID:America/Vancouver
BEGIN:DAYLIGHT
TZOFFSETFROM:-0800
TZOFFSETTO:-0700
TZNAME:PDT
DTSTART:20170312T100000
END:DAYLIGHT
BEGIN:STANDARD
TZOFFSETFROM:-0700
TZOFFSETTO:-0800
TZNAME:PST
DTSTART:20171105T090000
END:STANDARD
END:VTIMEZONE
BEGIN:VEVENT
DTSTART;TZID=America/Vancouver:20170806T160000
DTEND;TZID=America/Vancouver:20170806T180000
DTSTAMP:20260420T180009
CREATED:20170730T183358Z
LAST-MODIFIED:20170730T183358Z
UID:1804-1502035200-1502042400@explorewhiterock.com
SUMMARY:Hops\, Shop\, Repeat
DESCRIPTION:Join for a an evening of craft beer + shopping!
URL:https://explorewhiterock.com/event/hops-shop-repeat/
LOCATION:The Handpicked Home\, 1406 Johnston Road\, White Rock\, British Columbia\, Canada
END:VEVENT
END:VCALENDAR