BEGIN:VCALENDAR
VERSION:2.0
PRODID:-//Explore White Rock - ECPv5.14.2.1//NONSGML v1.0//EN
CALSCALE:GREGORIAN
METHOD:PUBLISH
X-WR-CALNAME:Explore White Rock
X-ORIGINAL-URL:https://explorewhiterock.com
X-WR-CALDESC:Events for Explore White Rock
BEGIN:VTIMEZONE
TZID:America/Vancouver
BEGIN:DAYLIGHT
TZOFFSETFROM:-0800
TZOFFSETTO:-0700
TZNAME:PDT
DTSTART:20190310T100000
END:DAYLIGHT
BEGIN:STANDARD
TZOFFSETFROM:-0700
TZOFFSETTO:-0800
TZNAME:PST
DTSTART:20191103T090000
END:STANDARD
END:VTIMEZONE
BEGIN:VEVENT
DTSTART;TZID=America/Vancouver:20191207T140000
DTEND;TZID=America/Vancouver:20191207T180000
DTSTAMP:20260423T033742
CREATED:20191123T171425Z
LAST-MODIFIED:20191123T171812Z
UID:5688-1575727200-1575741600@explorewhiterock.com
SUMMARY:Jingle Bell White Rock
DESCRIPTION:Kick-off Christmas on the waterfront with one of White Rock’s newest holiday events\, Jingle Bell White Rock. From 2:00pm to 6:00pm head to Memorial Park on White Rock’s waterfront for an evening of merriment\, including a DJ playing holiday tunes\, carollers at Museum Plaza\, entertainers\, photos with Santa (who rumour has it will be arriving by boat) and the official light-up ceremony for White Rock’s Festival of Lights. And to cap the evening off\, keep an eye out for the festive nautical parade of the annual Sailpast by the International Yacht Club of BC.
URL:https://explorewhiterock.com/event/jingle-bell-white-rock/
LOCATION:Memorial Park\, 25CV+FH\, White Rock\, BC\, Canada
CATEGORIES:Entertainment,Family
END:VEVENT
END:VCALENDAR