BEGIN:VCALENDAR
VERSION:2.0
PRODID:-//Explore White Rock - ECPv5.14.2.1//NONSGML v1.0//EN
CALSCALE:GREGORIAN
METHOD:PUBLISH
X-WR-CALNAME:Explore White Rock
X-ORIGINAL-URL:https://explorewhiterock.com
X-WR-CALDESC:Events for Explore White Rock
BEGIN:VTIMEZONE
TZID:America/Vancouver
BEGIN:DAYLIGHT
TZOFFSETFROM:-0800
TZOFFSETTO:-0700
TZNAME:PDT
DTSTART:20240310T100000
END:DAYLIGHT
BEGIN:STANDARD
TZOFFSETFROM:-0700
TZOFFSETTO:-0800
TZNAME:PST
DTSTART:20241103T090000
END:STANDARD
END:VTIMEZONE
BEGIN:VEVENT
DTSTART;TZID=America/Vancouver:20240919T110000
DTEND;TZID=America/Vancouver:20240919T170000
DTSTAMP:20260422T003924
CREATED:20240919T235413Z
LAST-MODIFIED:20240919T235413Z
UID:11429-1726743600-1726765200@explorewhiterock.com
SUMMARY:Juxtaposed: An Exhibition of Diverse Creations
DESCRIPTION:Juxtaposed: An Exhibition of Diverse Creations is presented by the Eclectic Collective. \nFeaturing: \n\nPaul Hyde\nKat McPhee\nDavid Patterson\nCatherine St. Germain\nJim Davidson\nand more!\n\nThe exhibition is open from September 5 to 25\, Tuesday to Saturday\, 11 a.m. to 5 p.m. and is located at the Landmark Pop Uptown Gallery.
URL:https://explorewhiterock.com/event/juxtaposed-an-exhibition-of-diverse-creations/2024-09-19/
LOCATION:Landmark Uptown Gallery\, 15140 North Bluff Road\, White Rock\, BC\, V4B 1Y6\, Canada
CATEGORIES:Art
GEO:49.0310703;-122.8031044
X-APPLE-STRUCTURED-LOCATION;VALUE=URI;X-ADDRESS=Landmark Uptown Gallery 15140 North Bluff Road White Rock BC V4B 1Y6 Canada;X-APPLE-RADIUS=500;X-TITLE=15140 North Bluff Road:geo:-122.8031044,49.0310703
END:VEVENT
END:VCALENDAR