BEGIN:VCALENDAR
VERSION:2.0
PRODID:-//Explore White Rock - ECPv5.14.2.1//NONSGML v1.0//EN
CALSCALE:GREGORIAN
METHOD:PUBLISH
X-WR-CALNAME:Explore White Rock
X-ORIGINAL-URL:https://explorewhiterock.com
X-WR-CALDESC:Events for Explore White Rock
BEGIN:VTIMEZONE
TZID:America/Vancouver
BEGIN:DAYLIGHT
TZOFFSETFROM:-0800
TZOFFSETTO:-0700
TZNAME:PDT
DTSTART:20170312T100000
END:DAYLIGHT
BEGIN:STANDARD
TZOFFSETFROM:-0700
TZOFFSETTO:-0800
TZNAME:PST
DTSTART:20171105T090000
END:STANDARD
END:VTIMEZONE
BEGIN:VEVENT
DTSTART;TZID=America/Vancouver:20170825T190000
DTEND;TZID=America/Vancouver:20170825T230000
DTSTAMP:20260422T023133
CREATED:20170701T215255Z
LAST-MODIFIED:20170701T215255Z
UID:1139-1503687600-1503702000@explorewhiterock.com
SUMMARY:Kirby Sewell Band
DESCRIPTION:Hailing from Calgary\, Alberta\, the Maple Blues Award winning Kirby Sewell Band have been making a name from themselves all over North America.   Enroute to the Big Blues Bender in Las Vegas\, Nevada\, they are rolling into the Blue Frog Studios for some intimate shows. \nKnown for their passionate live performances\, the monster five-piece extravaganza perform a modern take on the blues\, pulling at your heart-strings with melodic stories told from the depths of an old soul. Their arrangements are amped up\, invigorating\, thought provoking\, and play against the grain. \nThe band is fronted by award winning vocalist Kirby Sewell. Known to break a sweat on stage\, Kirby truly connects with the spirit of the blues. Nuances of his own life are shared in unforgettable performances\, leaving audiences with no doubt that the blues has spent time with him.
URL:https://explorewhiterock.com/event/kirby-sewell-band/
LOCATION:Blue Frog Studio\, 1328 Johnston Road\, White Rock\, BC\, V4B 3Z2\, Canada
CATEGORIES:Music
END:VEVENT
END:VCALENDAR