BEGIN:VCALENDAR
VERSION:2.0
PRODID:-//Explore White Rock - ECPv5.14.2.1//NONSGML v1.0//EN
CALSCALE:GREGORIAN
METHOD:PUBLISH
X-WR-CALNAME:Explore White Rock
X-ORIGINAL-URL:https://explorewhiterock.com
X-WR-CALDESC:Events for Explore White Rock
BEGIN:VTIMEZONE
TZID:America/Vancouver
BEGIN:DAYLIGHT
TZOFFSETFROM:-0800
TZOFFSETTO:-0700
TZNAME:PDT
DTSTART:20240310T100000
END:DAYLIGHT
BEGIN:STANDARD
TZOFFSETFROM:-0700
TZOFFSETTO:-0800
TZNAME:PST
DTSTART:20241103T090000
END:STANDARD
END:VTIMEZONE
BEGIN:VEVENT
DTSTART;TZID=America/Vancouver:20240705T190000
DTEND;TZID=America/Vancouver:20240705T210000
DTSTAMP:20260422T040926
CREATED:20240528T144530Z
LAST-MODIFIED:20240528T144530Z
UID:11142-1720206000-1720213200@explorewhiterock.com
SUMMARY:Live at Blue Frog: Doug & the Slugs - Semi-Unplugged
DESCRIPTION:“Back by popular demand! ‘Doug & the Slugs: Semi-Unplugged Slugs’\nJoin us at Blue Frog Studios\, July 6\, 2024 for an intimate evening with Doug and the Slugs\, featuring Slug tales & twisted trails – behind the scenes stories\, hidden gems and all your favourite songs!” \nDoors 6:00 | Music 7:00 || Doors 8:45 | Music 9:15
URL:https://explorewhiterock.com/event/live-at-blue-frog-doug-the-slugs-semi-unplugged/
LOCATION:Blue Frog Studio\, 1328 Johnston Road\, White Rock\, BC\, V4B 3Z2\, Canada
CATEGORIES:Music
END:VEVENT
END:VCALENDAR