BEGIN:VCALENDAR
VERSION:2.0
PRODID:-//Explore White Rock - ECPv5.14.2.1//NONSGML v1.0//EN
CALSCALE:GREGORIAN
METHOD:PUBLISH
X-WR-CALNAME:Explore White Rock
X-ORIGINAL-URL:https://explorewhiterock.com
X-WR-CALDESC:Events for Explore White Rock
BEGIN:VTIMEZONE
TZID:America/Vancouver
BEGIN:DAYLIGHT
TZOFFSETFROM:-0800
TZOFFSETTO:-0700
TZNAME:PDT
DTSTART:20170312T100000
END:DAYLIGHT
BEGIN:STANDARD
TZOFFSETFROM:-0700
TZOFFSETTO:-0800
TZNAME:PST
DTSTART:20171105T090000
END:STANDARD
END:VTIMEZONE
BEGIN:VEVENT
DTSTART;TZID=America/Vancouver:20171111T190000
DTEND;TZID=America/Vancouver:20171111T230000
DTSTAMP:20260420T131405
CREATED:20171017T212437Z
LAST-MODIFIED:20171017T212437Z
UID:2221-1510426800-1510441200@explorewhiterock.com
SUMMARY:Live at Blue Frog Studios: Patsy Cline\, A Tribute by Bonnie Kilroe
DESCRIPTION:BONNIE KILROE has been a professional\, award-winning entertainer for more than 15 years.  She has been singing and strutting her stuff to the enjoyment of local\, national\, and international audiences.  An incredibly versatile performer\, Kilroe is always coming up with new ways to thrill and delight.  With striking looks\, versatile vocal talents and natural comic timing\, PATSY CLINE: A Tribute by BONNIE KILROE is sure to be a mesmerizing feast for your senses. \nTwo Shows: 7:00pm and 9:15pm
URL:https://explorewhiterock.com/event/live-at-blue-frog-studios-patsy-cline-a-tribute-by-bonnie-kilroe/
LOCATION:Blue Frog Studio\, 1328 Johnston Road\, White Rock\, BC\, V4B 3Z2\, Canada
CATEGORIES:Music
END:VEVENT
END:VCALENDAR