BEGIN:VCALENDAR
VERSION:2.0
PRODID:-//Explore White Rock - ECPv5.14.2.1//NONSGML v1.0//EN
CALSCALE:GREGORIAN
METHOD:PUBLISH
X-WR-CALNAME:Explore White Rock
X-ORIGINAL-URL:https://explorewhiterock.com
X-WR-CALDESC:Events for Explore White Rock
BEGIN:VTIMEZONE
TZID:America/Vancouver
BEGIN:DAYLIGHT
TZOFFSETFROM:-0800
TZOFFSETTO:-0700
TZNAME:PDT
DTSTART:20170312T100000
END:DAYLIGHT
BEGIN:STANDARD
TZOFFSETFROM:-0700
TZOFFSETTO:-0800
TZNAME:PST
DTSTART:20171105T090000
END:STANDARD
END:VTIMEZONE
BEGIN:VEVENT
DTSTART;TZID=America/Vancouver:20170809T110000
DTEND;TZID=America/Vancouver:20170809T120000
DTSTAMP:20260420T175947
CREATED:20170618T223434Z
LAST-MODIFIED:20170618T223434Z
UID:959-1502276400-1502280000@explorewhiterock.com
SUMMARY:Mad Science
DESCRIPTION:Up\, up and away! Join the Mad Scientists and investigate the power of air with hot air balloons\, vortex generators\, and even a hovercraft. Be amazed as you discover some of the wild and wonderful behaviours of air.
URL:https://explorewhiterock.com/event/mad-science/
LOCATION:White Rock Library\, 15342 Buena Vista Avenue \, White Rock \, BC \, V4B 1Y6\, Canada
CATEGORIES:Family
END:VEVENT
END:VCALENDAR