BEGIN:VCALENDAR
VERSION:2.0
PRODID:-//Explore White Rock - ECPv5.14.2.1//NONSGML v1.0//EN
CALSCALE:GREGORIAN
METHOD:PUBLISH
X-WR-CALNAME:Explore White Rock
X-ORIGINAL-URL:https://explorewhiterock.com
X-WR-CALDESC:Events for Explore White Rock
BEGIN:VTIMEZONE
TZID:America/Vancouver
BEGIN:DAYLIGHT
TZOFFSETFROM:-0800
TZOFFSETTO:-0700
TZNAME:PDT
DTSTART:20170312T100000
END:DAYLIGHT
BEGIN:STANDARD
TZOFFSETFROM:-0700
TZOFFSETTO:-0800
TZNAME:PST
DTSTART:20171105T090000
END:STANDARD
END:VTIMEZONE
BEGIN:VEVENT
DTSTART;TZID=America/Vancouver:20170719T110000
DTEND;TZID=America/Vancouver:20170719T160000
DTSTAMP:20260420T180818
CREATED:20170706T222313Z
LAST-MODIFIED:20170706T222313Z
UID:1359-1500462000-1500480000@explorewhiterock.com
SUMMARY:Master Artist at the Library-Rod Kerr
DESCRIPTION:Rod Kerr uses vibrant colours and unusual graphic forms to create the dramatic\, powerful images from his prairie childhood\, gentle shapes of softer southern landscapes and bold contemporary abstracts. Part of the 150 Canada celebration.
URL:https://explorewhiterock.com/event/master-artist-at-the-library-rod-kerr/
LOCATION:White Rock Library\, 15342 Buena Vista Avenue \, White Rock \, BC \, V4B 1Y6\, Canada
CATEGORIES:Art
END:VEVENT
END:VCALENDAR