BEGIN:VCALENDAR
VERSION:2.0
PRODID:-//Explore White Rock - ECPv5.14.2.1//NONSGML v1.0//EN
CALSCALE:GREGORIAN
METHOD:PUBLISH
X-WR-CALNAME:Explore White Rock
X-ORIGINAL-URL:https://explorewhiterock.com
X-WR-CALDESC:Events for Explore White Rock
BEGIN:VTIMEZONE
TZID:America/Vancouver
BEGIN:DAYLIGHT
TZOFFSETFROM:-0800
TZOFFSETTO:-0700
TZNAME:PDT
DTSTART:20170312T100000
END:DAYLIGHT
BEGIN:STANDARD
TZOFFSETFROM:-0700
TZOFFSETTO:-0800
TZNAME:PST
DTSTART:20171105T090000
END:STANDARD
END:VTIMEZONE
BEGIN:VEVENT
DTSTART;TZID=America/Vancouver:20170721T110000
DTEND;TZID=America/Vancouver:20170721T160000
DTSTAMP:20260420T180834
CREATED:20170713T211635Z
LAST-MODIFIED:20170713T211635Z
UID:1572-1500634800-1500652800@explorewhiterock.com
SUMMARY:Master Artist in the Library - Lesley Tannen
DESCRIPTION:Tannen uses pastels as an inspiring way to turn pure pigment into evocative\, visual reflections and meditations of life and thought.
URL:https://explorewhiterock.com/event/master-artist-in-the-library-lesley-tannen-2/
LOCATION:White Rock Library\, 15342 Buena Vista Avenue \, White Rock \, BC \, V4B 1Y6\, Canada
CATEGORIES:Art
END:VEVENT
END:VCALENDAR