BEGIN:VCALENDAR
VERSION:2.0
PRODID:-//Explore White Rock - ECPv5.14.2.1//NONSGML v1.0//EN
CALSCALE:GREGORIAN
METHOD:PUBLISH
X-WR-CALNAME:Explore White Rock
X-ORIGINAL-URL:https://explorewhiterock.com
X-WR-CALDESC:Events for Explore White Rock
BEGIN:VTIMEZONE
TZID:America/Vancouver
BEGIN:DAYLIGHT
TZOFFSETFROM:-0800
TZOFFSETTO:-0700
TZNAME:PDT
DTSTART:20180311T100000
END:DAYLIGHT
BEGIN:STANDARD
TZOFFSETFROM:-0700
TZOFFSETTO:-0800
TZNAME:PST
DTSTART:20181104T090000
END:STANDARD
END:VTIMEZONE
BEGIN:VEVENT
DTSTART;TZID=America/Vancouver:20180914T110000
DTEND;TZID=America/Vancouver:20180914T160000
DTSTAMP:20260419T175711
CREATED:20180823T201546Z
LAST-MODIFIED:20180823T201546Z
UID:4103-1536922800-1536940800@explorewhiterock.com
SUMMARY:Master Artists in the Library - Nicoletta Beaumeister
DESCRIPTION:Nicoletta Baumeister works in watercolour\, acrylic and oil. Her work is motivated by the awareness that all that we see is mediated through the lenses of our eyes\, the processes of our brain\, and the nuances of experience\, memory\, culture and can run the gamut from hyper realism to minimalist abstractionism. This event is part of the Fall Festival of the Arts.
URL:https://explorewhiterock.com/event/master-artists-in-the-library-nicoletta-beaumeister/2018-09-14/
CATEGORIES:Art
END:VEVENT
END:VCALENDAR