BEGIN:VCALENDAR
VERSION:2.0
PRODID:-//Explore White Rock - ECPv5.14.2.1//NONSGML v1.0//EN
CALSCALE:GREGORIAN
METHOD:PUBLISH
X-WR-CALNAME:Explore White Rock
X-ORIGINAL-URL:https://explorewhiterock.com
X-WR-CALDESC:Events for Explore White Rock
BEGIN:VTIMEZONE
TZID:America/Vancouver
BEGIN:DAYLIGHT
TZOFFSETFROM:-0800
TZOFFSETTO:-0700
TZNAME:PDT
DTSTART:20170312T100000
END:DAYLIGHT
BEGIN:STANDARD
TZOFFSETFROM:-0700
TZOFFSETTO:-0800
TZNAME:PST
DTSTART:20171105T090000
END:STANDARD
END:VTIMEZONE
BEGIN:VEVENT
DTSTART;VALUE=DATE:20170711
DTEND;VALUE=DATE:20171010
DTSTAMP:20260422T201324
CREATED:20170717T182001Z
LAST-MODIFIED:20170831T205434Z
UID:1663-1499731200-1507593599@explorewhiterock.com
SUMMARY:Mosaics: Understanding White Rock in the Context of Canada
DESCRIPTION:The exhibition explores the development of White Rock as a Canadian city\, but emphasizes little known local stories about several communities present in White Rock over the last 150 years. These stories include the large the Japanese community living near East Beach until 1941\, the development of the Semiahmoo reservation\, Great Northern Railway as a major silk distributor from Asia\, and the challenge facing Chinese Canadians living in the area until the late 1940s.
URL:https://explorewhiterock.com/event/mosaics-understanding-white-rock-in-the-context-of-canada/
LOCATION:White Rock Museum\, 14970 Marine Drive\, White Rock\, BC\, Canada
CATEGORIES:History
END:VEVENT
END:VCALENDAR