BEGIN:VCALENDAR
VERSION:2.0
PRODID:-//Explore White Rock - ECPv5.14.2.1//NONSGML v1.0//EN
CALSCALE:GREGORIAN
METHOD:PUBLISH
X-WR-CALNAME:Explore White Rock
X-ORIGINAL-URL:https://explorewhiterock.com
X-WR-CALDESC:Events for Explore White Rock
BEGIN:VTIMEZONE
TZID:America/Vancouver
BEGIN:DAYLIGHT
TZOFFSETFROM:-0800
TZOFFSETTO:-0700
TZNAME:PDT
DTSTART:20200308T100000
END:DAYLIGHT
BEGIN:STANDARD
TZOFFSETFROM:-0700
TZOFFSETTO:-0800
TZNAME:PST
DTSTART:20201101T090000
END:STANDARD
END:VTIMEZONE
BEGIN:VEVENT
DTSTART;TZID=America/Vancouver:20201120T180000
DTEND;TZID=America/Vancouver:20201121T220000
DTSTAMP:20260422T072328
CREATED:20201111T004949Z
LAST-MODIFIED:20201111T005256Z
UID:6658-1605895200-1605996000@explorewhiterock.com
SUMMARY:Neil Osborne - Live at Blue Frog
DESCRIPTION:As lead singer and chief songwriter of 54•40\, Neil Osborne has achieved critical acclaim\, released a dozen albums and weathered the fickle music business for more than three decades. He is known primarily as a rock musician but is also an accomplished producer often taking the production reins of 54•40 albums and is also a songwriter of amazing depth and clarity. \nThis is a live\, ticketed event.  \nFRIDAY NOVEMBER 20\, 2020\n​‣ Doors 6:00 pm | Music 7:00 pm – SOLD OUT\n​‣ ​Doors 8:45 pm | Music 9:15 pm –  SOLD OUT  \nSATURDAY NOVEMBER 21\, 2020\n​‣ Doors 6:00 pm | Music 7:00 pm – SOLD OUT\n​‣ ​Doors 8:45 pm | Music 9:15 pm –  TICKETS AVAILABLE \nA live stream is available for those who wish to watch from home – https://www.bluefrogstudios.ca/live-streams.html
URL:https://explorewhiterock.com/event/neil-osborne-live-at-blue-frog-2/
CATEGORIES:Music
END:VEVENT
END:VCALENDAR