BEGIN:VCALENDAR
VERSION:2.0
PRODID:-//Explore White Rock - ECPv5.14.2.1//NONSGML v1.0//EN
CALSCALE:GREGORIAN
METHOD:PUBLISH
X-WR-CALNAME:Explore White Rock
X-ORIGINAL-URL:https://explorewhiterock.com
X-WR-CALDESC:Events for Explore White Rock
BEGIN:VTIMEZONE
TZID:America/Vancouver
BEGIN:DAYLIGHT
TZOFFSETFROM:-0800
TZOFFSETTO:-0700
TZNAME:PDT
DTSTART:20170312T100000
END:DAYLIGHT
BEGIN:STANDARD
TZOFFSETFROM:-0700
TZOFFSETTO:-0800
TZNAME:PST
DTSTART:20171105T090000
END:STANDARD
END:VTIMEZONE
BEGIN:VEVENT
DTSTART;TZID=America/Vancouver:20170921T100000
DTEND;TZID=America/Vancouver:20171020T200000
DTSTAMP:20260420T145644
CREATED:20170706T230512Z
LAST-MODIFIED:20170816T194549Z
UID:1377-1505988000-1508529600@explorewhiterock.com
SUMMARY:Youth Art Show
DESCRIPTION:  \nArt on Display runs at the White Rock Community Centre – Gallery.  Due to the many creative activities in this space\, the gallery does not have set hours. Please call in advance for viewing 604-541-2199.
URL:https://explorewhiterock.com/event/opening-reception-youth-art-show/
LOCATION:White Rock Community Centre\, 15154 Russell Avenue \, White Rock \, BC \, V4B 0A6\, Canada
CATEGORIES:Art
END:VEVENT
END:VCALENDAR