BEGIN:VCALENDAR
VERSION:2.0
PRODID:-//Explore White Rock - ECPv5.14.2.1//NONSGML v1.0//EN
CALSCALE:GREGORIAN
METHOD:PUBLISH
X-WR-CALNAME:Explore White Rock
X-ORIGINAL-URL:https://explorewhiterock.com
X-WR-CALDESC:Events for Explore White Rock
BEGIN:VTIMEZONE
TZID:America/Vancouver
BEGIN:DAYLIGHT
TZOFFSETFROM:-0800
TZOFFSETTO:-0700
TZNAME:PDT
DTSTART:20170312T100000
END:DAYLIGHT
BEGIN:STANDARD
TZOFFSETFROM:-0700
TZOFFSETTO:-0800
TZNAME:PST
DTSTART:20171105T090000
END:STANDARD
END:VTIMEZONE
BEGIN:VEVENT
DTSTART;TZID=America/Vancouver:20170709T090000
DTEND;TZID=America/Vancouver:20170709T120000
DTSTAMP:20260420T231821
CREATED:20170623T211427Z
LAST-MODIFIED:20170701T222457Z
UID:1024-1499590800-1499601600@explorewhiterock.com
SUMMARY:Psycle by the Sea
DESCRIPTION:  \n \nShow up. Psycle. Breathe. \nBreathe in the fresh air and sweat it out at one of three 45 minute spin classes. Our incredible instructors will lead you through a series of drills and hills so you get a great workout with an even better view!
URL:https://explorewhiterock.com/event/psycle-by-the-sea/
LOCATION:White Rock Museum\, 14970 Marine Drive\, White Rock\, BC\, Canada
CATEGORIES:Sports
END:VEVENT
END:VCALENDAR