BEGIN:VCALENDAR
VERSION:2.0
PRODID:-//Explore White Rock - ECPv5.14.2.1//NONSGML v1.0//EN
CALSCALE:GREGORIAN
METHOD:PUBLISH
X-WR-CALNAME:Explore White Rock
X-ORIGINAL-URL:https://explorewhiterock.com
X-WR-CALDESC:Events for Explore White Rock
BEGIN:VTIMEZONE
TZID:America/Vancouver
BEGIN:DAYLIGHT
TZOFFSETFROM:-0800
TZOFFSETTO:-0700
TZNAME:PDT
DTSTART:20180311T100000
END:DAYLIGHT
BEGIN:STANDARD
TZOFFSETFROM:-0700
TZOFFSETTO:-0800
TZNAME:PST
DTSTART:20181104T090000
END:STANDARD
END:VTIMEZONE
BEGIN:VEVENT
DTSTART;TZID=America/Vancouver:20180918T190000
DTEND;TZID=America/Vancouver:20180918T210000
DTSTAMP:20260419T193935
CREATED:20180823T202014Z
LAST-MODIFIED:20180823T202014Z
UID:4108-1537297200-1537304400@explorewhiterock.com
SUMMARY:Science Literacy Week - Christa van Laerhoven
DESCRIPTION:Learn about the wonders of the night sky with Dr. Christa van Laerhoven. Dr. van Laerhoven is an astrophysicist at the University of British Columbia who grew up in the Fraser Valley (Agassiz). She studies multi-planet extra-solar systems. She is a talented and engaging speaker\, who has given talks to both academic and community audiences\, having visited many libraries and schools. She is an OSIRIS-REx Ambassador and a panelist on reddit.com’s AskScience. This event is part of the Fall Festival of the Arts.
URL:https://explorewhiterock.com/event/science-literacy-week-christa-van-laerhoven/
LOCATION:White Rock Library\, 15342 Buena Vista Avenue \, White Rock \, BC \, V4B 1Y6\, Canada
CATEGORIES:Art,Education
END:VEVENT
END:VCALENDAR