BEGIN:VCALENDAR
VERSION:2.0
PRODID:-//Explore White Rock - ECPv5.14.2.1//NONSGML v1.0//EN
CALSCALE:GREGORIAN
METHOD:PUBLISH
X-WR-CALNAME:Explore White Rock
X-ORIGINAL-URL:https://explorewhiterock.com
X-WR-CALDESC:Events for Explore White Rock
BEGIN:VTIMEZONE
TZID:America/Vancouver
BEGIN:DAYLIGHT
TZOFFSETFROM:-0800
TZOFFSETTO:-0700
TZNAME:PDT
DTSTART:20180311T100000
END:DAYLIGHT
BEGIN:STANDARD
TZOFFSETFROM:-0700
TZOFFSETTO:-0800
TZNAME:PST
DTSTART:20181104T090000
END:STANDARD
END:VTIMEZONE
BEGIN:VEVENT
DTSTART;TZID=America/Vancouver:20180919T150000
DTEND;TZID=America/Vancouver:20180919T170000
DTSTAMP:20260419T175246
CREATED:20180823T202250Z
LAST-MODIFIED:20180823T202250Z
UID:4110-1537369200-1537376400@explorewhiterock.com
SUMMARY:Science Literacy Week - Keva Plank Maze
DESCRIPTION:Teams create a maze using Keva Planks. Can Sphero navigate through it? How complex and maneuverable can you make it? All supplies provided. Suitable for school-aged children. This event is part of the Fall Festival of the Arts.
URL:https://explorewhiterock.com/event/science-literacy-week-keva-plank-maze/
LOCATION:White Rock Library\, 15342 Buena Vista Avenue \, White Rock \, BC \, V4B 1Y6\, Canada
CATEGORIES:Art,Education
END:VEVENT
END:VCALENDAR