BEGIN:VCALENDAR
VERSION:2.0
PRODID:-//Explore White Rock - ECPv5.14.2.1//NONSGML v1.0//EN
CALSCALE:GREGORIAN
METHOD:PUBLISH
X-WR-CALNAME:Explore White Rock
X-ORIGINAL-URL:https://explorewhiterock.com
X-WR-CALDESC:Events for Explore White Rock
BEGIN:VTIMEZONE
TZID:America/Vancouver
BEGIN:DAYLIGHT
TZOFFSETFROM:-0800
TZOFFSETTO:-0700
TZNAME:PDT
DTSTART:20180311T100000
END:DAYLIGHT
BEGIN:STANDARD
TZOFFSETFROM:-0700
TZOFFSETTO:-0800
TZNAME:PST
DTSTART:20181104T090000
END:STANDARD
END:VTIMEZONE
BEGIN:VEVENT
DTSTART;TZID=America/Vancouver:20180804T220000
DTEND;TZID=America/Vancouver:20180804T223000
DTSTAMP:20260424T045711
CREATED:20180801T200915Z
LAST-MODIFIED:20180801T200915Z
UID:3429-1533420000-1533421800@explorewhiterock.com
SUMMARY:Sea Fest - Fireworks
DESCRIPTION:Head down to the beach with the whole family to enjoy a spectacular fireworks show! 
URL:https://explorewhiterock.com/event/sea-fest-fireworks/
LOCATION:The White Rock
CATEGORIES:Family,Fireworks
END:VEVENT
END:VCALENDAR