BEGIN:VCALENDAR
VERSION:2.0
PRODID:-//Explore White Rock - ECPv5.14.2.1//NONSGML v1.0//EN
CALSCALE:GREGORIAN
METHOD:PUBLISH
X-WR-CALNAME:Explore White Rock
X-ORIGINAL-URL:https://explorewhiterock.com
X-WR-CALDESC:Events for Explore White Rock
BEGIN:VTIMEZONE
TZID:America/Vancouver
BEGIN:DAYLIGHT
TZOFFSETFROM:-0800
TZOFFSETTO:-0700
TZNAME:PDT
DTSTART:20180311T100000
END:DAYLIGHT
BEGIN:STANDARD
TZOFFSETFROM:-0700
TZOFFSETTO:-0800
TZNAME:PST
DTSTART:20181104T090000
END:STANDARD
END:VTIMEZONE
BEGIN:VEVENT
DTSTART;TZID=America/Vancouver:20180804T080000
DTEND;TZID=America/Vancouver:20180804T090000
DTSTAMP:20260424T032011
CREATED:20180801T193652Z
LAST-MODIFIED:20180801T193652Z
UID:3424-1533369600-1533373200@explorewhiterock.com
SUMMARY:Sea Fest - Morning Yoga and Live Music
DESCRIPTION:Wake up in style by heading down to the beach for some early-morning yoga. This event will take place by the White Rock\, offering scenic views and live music to accompany the perfect early-morning workout. 
URL:https://explorewhiterock.com/event/sea-fest-morning-yoga-and-live-music/
LOCATION:The White Rock
CATEGORIES:Music
END:VEVENT
END:VCALENDAR