BEGIN:VCALENDAR
VERSION:2.0
PRODID:-//Explore White Rock - ECPv5.14.2.1//NONSGML v1.0//EN
CALSCALE:GREGORIAN
METHOD:PUBLISH
X-WR-CALNAME:Explore White Rock
X-ORIGINAL-URL:https://explorewhiterock.com
X-WR-CALDESC:Events for Explore White Rock
BEGIN:VTIMEZONE
TZID:America/Vancouver
BEGIN:DAYLIGHT
TZOFFSETFROM:-0800
TZOFFSETTO:-0700
TZNAME:PDT
DTSTART:20180311T100000
END:DAYLIGHT
BEGIN:STANDARD
TZOFFSETFROM:-0700
TZOFFSETTO:-0800
TZNAME:PST
DTSTART:20181104T090000
END:STANDARD
END:VTIMEZONE
BEGIN:VEVENT
DTSTART;TZID=America/Vancouver:20180915T110000
DTEND;TZID=America/Vancouver:20180915T150000
DTSTAMP:20260419T230754
CREATED:20180830T164225Z
LAST-MODIFIED:20180830T164225Z
UID:4214-1537009200-1537023600@explorewhiterock.com
SUMMARY:SOURCES 40th Anniversary Community Celebration in White Rock
DESCRIPTION:On Saturday\, September 15\, bring your family and friends to the White Rock Elementary School Grounds (off Johnston Rd.) between 11 a.m. and 3 p.m. for an afternoon of FUN that’s all for FREE! \nENTERTAINMENT\nDELICIOUS FOOD\nRESOURCE FAIR\nAND MORE!\nPlus\, hear from local MP Gordon Hogg\, MLA Tracy Redies\, MLA Stephanie Cadieux\, Mayor Wayne Baldwin\, SOURCES President Bruce Hayneand CEO David Young as they reflect on SOURCES’ 40 years of service to community.
URL:https://explorewhiterock.com/event/sources-40th-anniversary-community-celebration-in-white-rock/
LOCATION:White Rock Elementary School\, 1273 Fir St\, White Rock\, BC\, V4B 5A6\, Canada
CATEGORIES:Entertainment,Family,Food & Drink
GEO:49.0251472;-122.799609
X-APPLE-STRUCTURED-LOCATION;VALUE=URI;X-ADDRESS=White Rock Elementary School 1273 Fir St White Rock BC V4B 5A6 Canada;X-APPLE-RADIUS=500;X-TITLE=1273 Fir St:geo:-122.799609,49.0251472
END:VEVENT
END:VCALENDAR