BEGIN:VCALENDAR
VERSION:2.0
PRODID:-//Explore White Rock - ECPv5.14.2.1//NONSGML v1.0//EN
CALSCALE:GREGORIAN
METHOD:PUBLISH
X-WR-CALNAME:Explore White Rock
X-ORIGINAL-URL:https://explorewhiterock.com
X-WR-CALDESC:Events for Explore White Rock
BEGIN:VTIMEZONE
TZID:America/Vancouver
BEGIN:DAYLIGHT
TZOFFSETFROM:-0800
TZOFFSETTO:-0700
TZNAME:PDT
DTSTART:20250309T100000
END:DAYLIGHT
BEGIN:STANDARD
TZOFFSETFROM:-0700
TZOFFSETTO:-0800
TZNAME:PST
DTSTART:20251102T090000
END:STANDARD
END:VTIMEZONE
BEGIN:VEVENT
DTSTART;TZID=America/Vancouver:20250814T190000
DTEND;TZID=America/Vancouver:20250814T220000
DTSTAMP:20260422T085916
CREATED:20240202T154347Z
LAST-MODIFIED:20250608T162008Z
UID:10812-1755198000-1755208800@explorewhiterock.com
SUMMARY:The Concerts at the Pier - sGaanaGwa
DESCRIPTION:Organized in partnership by the White Rock Business Improvement Association and the City of White Rock\, this live music event is one of the highlights of the summer in White Rock and is one that you do not want to miss!  The concerts\, as always are FREE (no tickets required)\, and this year’s lineup promises to be a big one – with iconic Canadian artists\, beloved local artists\, and great tribute bands taking the stage. \nJune 26: Odds\, with opening act Aidan Farrel at EAST BEACH – Grand Chief Bernard Robert Charles Memorial Plaza Parking Lot East Beach. \nJuly 10: Mostly Marley at MIRAMAR VILLAGE  (Uptown) \nJuly 25: Simply Queen\, with opening act Avenue Elle at EAST BEACH – Grand Chief Bernard Robert Charles Memorial Plaza Parking Lot \nAugust 14: sGaanaGwa\, with opening act The Wilds at WEST BEACH\, Memorial Park. \nAugust 21: Five Alarm Funk with opening act Pax at EAST BEACH\, Grand Chief Bernard Robert Charles Memorial Plaza Parking Lot \nConcerts begin at 7:00pm with the headlining act taking the stage at 8:00 pm. 
URL:https://explorewhiterock.com/event/the-concerts-at-the-pier-presented-by-td-2/
LOCATION:Memorial Park\, 25CV+FH\, White Rock\, BC\, Canada
CATEGORIES:Music
END:VEVENT
END:VCALENDAR