BEGIN:VCALENDAR
VERSION:2.0
PRODID:-//Explore White Rock - ECPv5.14.2.1//NONSGML v1.0//EN
CALSCALE:GREGORIAN
METHOD:PUBLISH
X-WR-CALNAME:Explore White Rock
X-ORIGINAL-URL:https://explorewhiterock.com
X-WR-CALDESC:Events for Explore White Rock
BEGIN:VTIMEZONE
TZID:America/Vancouver
BEGIN:DAYLIGHT
TZOFFSETFROM:-0800
TZOFFSETTO:-0700
TZNAME:PDT
DTSTART:20210314T100000
END:DAYLIGHT
BEGIN:STANDARD
TZOFFSETFROM:-0700
TZOFFSETTO:-0800
TZNAME:PST
DTSTART:20211107T090000
END:STANDARD
END:VTIMEZONE
BEGIN:VEVENT
DTSTART;TZID=America/Vancouver:20211211T211500
DTEND;TZID=America/Vancouver:20211211T224500
DTSTAMP:20260421T090419
CREATED:20211203T161037Z
LAST-MODIFIED:20211203T161037Z
UID:8174-1639257300-1639262700@explorewhiterock.com
SUMMARY:The Magic of Christmas
DESCRIPTION:The Magic of Christmas at Blue Frog will be an intimate evening of heart-warming festive music\, featuring the Creber Family (vocalists Monique & Michelle along with pianist Michael Creber); plus special guests including acclaimed singer-songwriter Shari Ulrich; and a great band including Miles Foxx Hill on bass and Buff Allen on drums! Together\, they will be performing a wonderful mix of seasonal favourites in a range of styles from pop and jazz to traditional carols… guaranteed to put you in the holiday spirit!
URL:https://explorewhiterock.com/event/the-magic-of-christmas/
LOCATION:Blue Frog Studio\, 1328 Johnston Road\, White Rock\, BC\, V4B 3Z2\, Canada
CATEGORIES:Music
END:VEVENT
END:VCALENDAR