BEGIN:VCALENDAR
VERSION:2.0
PRODID:-//Explore White Rock - ECPv5.14.2.1//NONSGML v1.0//EN
CALSCALE:GREGORIAN
METHOD:PUBLISH
X-WR-CALNAME:Explore White Rock
X-ORIGINAL-URL:https://explorewhiterock.com
X-WR-CALDESC:Events for Explore White Rock
BEGIN:VTIMEZONE
TZID:America/Vancouver
BEGIN:DAYLIGHT
TZOFFSETFROM:-0800
TZOFFSETTO:-0700
TZNAME:PDT
DTSTART:20180311T100000
END:DAYLIGHT
BEGIN:STANDARD
TZOFFSETFROM:-0700
TZOFFSETTO:-0800
TZNAME:PST
DTSTART:20181104T090000
END:STANDARD
END:VTIMEZONE
BEGIN:VEVENT
DTSTART;TZID=America/Vancouver:20180309T190000
DTEND;TZID=America/Vancouver:20180309T210000
DTSTAMP:20260424T125418
CREATED:20180216T182533Z
LAST-MODIFIED:20180216T182533Z
UID:2625-1520622000-1520629200@explorewhiterock.com
SUMMARY:Weather Watching Exhibition Reception
DESCRIPTION:Erica Grimm\, in collaboration with Sheinagh Anderson and Tracie Stewart \nEngage with the timely exhibition\, Weather Watching: Ocean Prayers and Provocations through a memorable evening of poetry reading by Ted Blogett and Surrey’s Poet Laureate\, Renée Sarojini Saklikar\, and a live performance by artist Dr. Celeste Snowber\, Associate Professor in the Faculty of Education at Simon Fraser University. \nGet your free tickets here. \n 
URL:https://explorewhiterock.com/event/weather-watching-exhibition-reception/
LOCATION:White Rock Museum\, 14970 Marine Drive\, White Rock\, BC\, Canada
CATEGORIES:Art
END:VEVENT
END:VCALENDAR