BEGIN:VCALENDAR
VERSION:2.0
PRODID:-//Explore White Rock - ECPv5.14.2.1//NONSGML v1.0//EN
CALSCALE:GREGORIAN
METHOD:PUBLISH
X-WR-CALNAME:Explore White Rock
X-ORIGINAL-URL:https://explorewhiterock.com
X-WR-CALDESC:Events for Explore White Rock
BEGIN:VTIMEZONE
TZID:America/Vancouver
BEGIN:DAYLIGHT
TZOFFSETFROM:-0800
TZOFFSETTO:-0700
TZNAME:PDT
DTSTART:20170312T100000
END:DAYLIGHT
BEGIN:STANDARD
TZOFFSETFROM:-0700
TZOFFSETTO:-0800
TZNAME:PST
DTSTART:20171105T090000
END:STANDARD
END:VTIMEZONE
BEGIN:VEVENT
DTSTART;TZID=America/Vancouver:20170722T193000
DTEND;TZID=America/Vancouver:20170722T233000
DTSTAMP:20260422T202637
CREATED:20170719T172910Z
LAST-MODIFIED:20170719T173112Z
UID:1700-1500751800-1500766200@explorewhiterock.com
SUMMARY:White Rock Elks Presents Hawaiian Beach Party
DESCRIPTION:Come out for a night of Hawaiian Fun at White Rock’s Elk Lounge! \n$5 for members and $10 for non-members. \nCash only.
URL:https://explorewhiterock.com/event/white-rock-elks-presents-hawaiian-beach-party/
LOCATION:Elk’s Hall\, 1469 George Street \, White Rock \, BC\, V4B 4X2\, Canada
END:VEVENT
END:VCALENDAR