BEGIN:VCALENDAR
VERSION:2.0
PRODID:-//Explore White Rock - ECPv5.14.2.1//NONSGML v1.0//EN
CALSCALE:GREGORIAN
METHOD:PUBLISH
X-WR-CALNAME:Explore White Rock
X-ORIGINAL-URL:https://explorewhiterock.com
X-WR-CALDESC:Events for Explore White Rock
BEGIN:VTIMEZONE
TZID:America/Vancouver
BEGIN:DAYLIGHT
TZOFFSETFROM:-0800
TZOFFSETTO:-0700
TZNAME:PDT
DTSTART:20170312T100000
END:DAYLIGHT
BEGIN:STANDARD
TZOFFSETFROM:-0700
TZOFFSETTO:-0800
TZNAME:PST
DTSTART:20171105T090000
END:STANDARD
END:VTIMEZONE
BEGIN:VEVENT
DTSTART;TZID=America/Vancouver:20170729T110000
DTEND;TZID=America/Vancouver:20170729T140000
DTSTAMP:20260420T211841
CREATED:20170616T215043Z
LAST-MODIFIED:20170616T215043Z
UID:852-1501326000-1501336800@explorewhiterock.com
SUMMARY:White Rock Princess Party
DESCRIPTION:Founded by Myra “Miracle” Merkal in 2010\, the annual White Rock Princess Party is back for young princesses and princes! It was formed following inspiration from her son who had previously cycled across Canada as part of the Shore2Shore movement to raise awareness for The Variety Charity Club. The tradition carries on with many activities include a cakewalk\, face paint\, crafts. As well there are live character performances. All proceeds from this event go toward the building of an all ages-all abilities park in our community. 
URL:https://explorewhiterock.com/event/white-rock-princess-party/
LOCATION:Centennial Arena\, 14600 North Bluff Road\, White Rock\, BC\, V4B 3C9\, Canada
CATEGORIES:Family
END:VEVENT
END:VCALENDAR